BEGIN:VCALENDAR
VERSION:2.0
PRODID:-//Weihnachtsmarkt Magazin - ECPv6.15.18//NONSGML v1.0//EN
CALSCALE:GREGORIAN
METHOD:PUBLISH
X-WR-CALNAME:Weihnachtsmarkt Magazin
X-ORIGINAL-URL:https://weihnachtsmarkt-magazin.de
X-WR-CALDESC:Veranstaltungen für Weihnachtsmarkt Magazin
REFRESH-INTERVAL;VALUE=DURATION:PT1H
X-Robots-Tag:noindex
X-PUBLISHED-TTL:PT1H
BEGIN:VTIMEZONE
TZID:Europe/Berlin
BEGIN:DAYLIGHT
TZOFFSETFROM:+0100
TZOFFSETTO:+0200
TZNAME:CEST
DTSTART:20250330T010000
END:DAYLIGHT
BEGIN:STANDARD
TZOFFSETFROM:+0200
TZOFFSETTO:+0100
TZNAME:CET
DTSTART:20251026T010000
END:STANDARD
BEGIN:DAYLIGHT
TZOFFSETFROM:+0100
TZOFFSETTO:+0200
TZNAME:CEST
DTSTART:20260329T010000
END:DAYLIGHT
BEGIN:STANDARD
TZOFFSETFROM:+0200
TZOFFSETTO:+0100
TZNAME:CET
DTSTART:20261025T010000
END:STANDARD
BEGIN:DAYLIGHT
TZOFFSETFROM:+0100
TZOFFSETTO:+0200
TZNAME:CEST
DTSTART:20270328T010000
END:DAYLIGHT
BEGIN:STANDARD
TZOFFSETFROM:+0200
TZOFFSETTO:+0100
TZNAME:CET
DTSTART:20271031T010000
END:STANDARD
BEGIN:DAYLIGHT
TZOFFSETFROM:+0100
TZOFFSETTO:+0200
TZNAME:CEST
DTSTART:20280326T010000
END:DAYLIGHT
BEGIN:STANDARD
TZOFFSETFROM:+0200
TZOFFSETTO:+0100
TZNAME:CET
DTSTART:20281029T010000
END:STANDARD
END:VTIMEZONE
BEGIN:VEVENT
DTSTART;VALUE=DATE:20261126
DTEND;VALUE=DATE:20270107
DTSTAMP:20260423T105748
CREATED:20190321T103914Z
LAST-MODIFIED:20260213T094310Z
UID:10000051-1795651200-1799279999@weihnachtsmarkt-magazin.de
SUMMARY:Emmendingen
DESCRIPTION:Öffnungszeiten:\nMontag – Freitag 14 bis 20 Uhr\nSamstag und Sonntag 11 bis 20 Uhr\n24.12. und 31.12. 11 bis 14 Uhr\n25.12. geschlossen\n01.01.2026 geschlossen \n  \n 
URL:https://weihnachtsmarkt-magazin.de/maerkte/emmendingen/
LOCATION:Emmendingen\, Lammstraße / Marktplatz\, Emmendingen\, Baden-Württemberg\, 79312\, Deutschland
CATEGORIES:Baden-Württemberg,Schwarzwald,Süden
ATTACH;FMTTYPE=image/jpeg:https://weihnachtsmarkt-magazin.de/wp-content/uploads/2019/03/shutterstock_Die-Ekatarina.jpg
GEO:48.1206802;7.8491477
X-APPLE-STRUCTURED-LOCATION;VALUE=URI;X-ADDRESS=Emmendingen Lammstraße / Marktplatz Emmendingen Baden-Württemberg 79312 Deutschland;X-APPLE-RADIUS=500;X-TITLE=Lammstraße / Marktplatz:geo:7.8491477,48.1206802
END:VEVENT
END:VCALENDAR